BEGIN:VCALENDAR
VERSION:2.0
PRODID:-//St Petara Berg Teifl - ECPv6.15.18//NONSGML v1.0//EN
CALSCALE:GREGORIAN
METHOD:PUBLISH
X-WR-CALNAME:St Petara Berg Teifl
X-ORIGINAL-URL:https://spbt.at
X-WR-CALDESC:Veranstaltungen für St Petara Berg Teifl
REFRESH-INTERVAL;VALUE=DURATION:PT1H
X-Robots-Tag:noindex
X-PUBLISHED-TTL:PT1H
BEGIN:VTIMEZONE
TZID:Europe/Paris
BEGIN:DAYLIGHT
TZOFFSETFROM:+0100
TZOFFSETTO:+0200
TZNAME:CEST
DTSTART:20240331T010000
END:DAYLIGHT
BEGIN:STANDARD
TZOFFSETFROM:+0200
TZOFFSETTO:+0100
TZNAME:CET
DTSTART:20241027T010000
END:STANDARD
BEGIN:DAYLIGHT
TZOFFSETFROM:+0100
TZOFFSETTO:+0200
TZNAME:CEST
DTSTART:20250330T010000
END:DAYLIGHT
BEGIN:STANDARD
TZOFFSETFROM:+0200
TZOFFSETTO:+0100
TZNAME:CET
DTSTART:20251026T010000
END:STANDARD
BEGIN:DAYLIGHT
TZOFFSETFROM:+0100
TZOFFSETTO:+0200
TZNAME:CEST
DTSTART:20260329T010000
END:DAYLIGHT
BEGIN:STANDARD
TZOFFSETFROM:+0200
TZOFFSETTO:+0100
TZNAME:CET
DTSTART:20261025T010000
END:STANDARD
END:VTIMEZONE
BEGIN:VEVENT
DTSTART;VALUE=DATE:20251206
DTEND;VALUE=DATE:20251207
DTSTAMP:20260419T163757
CREATED:20251105T080232Z
LAST-MODIFIED:20251211T072518Z
UID:282-1764979200-1765065599@spbt.at
SUMMARY:Hausbesuche
DESCRIPTION:
URL:https://spbt.at/termine/hausbesuche/
LOCATION:Steiermark
CATEGORIES:Hausbesuch
ORGANIZER;CN="St Petara Berg Teifl":MAILTO:stpetarabergteifl@gmail.com
END:VEVENT
BEGIN:VEVENT
DTSTART;VALUE=DATE:20251205
DTEND;VALUE=DATE:20251206
DTSTAMP:20260419T163757
CREATED:20251105T080844Z
LAST-MODIFIED:20251211T072518Z
UID:291-1764892800-1764979199@spbt.at
SUMMARY:Lauf Stadtpark Trofaiach
DESCRIPTION:
URL:https://spbt.at/termine/lauf-stadtpark-trofaiach/
LOCATION:Stadtpark Trofaiach\, Bahnhofstraße 4k\, Trofaiach\, Steiermark\, 8793\, Austria
CATEGORIES:Lauf
END:VEVENT
BEGIN:VEVENT
DTSTART;VALUE=DATE:20251205
DTEND;VALUE=DATE:20251206
DTSTAMP:20260419T163757
CREATED:20251105T080501Z
LAST-MODIFIED:20251211T072518Z
UID:285-1764892800-1764979199@spbt.at
SUMMARY:Lauf Hauptplatz Leoben
DESCRIPTION:
URL:https://spbt.at/termine/lauf-hauptplatz-leoben/
LOCATION:Hauptplatz leoben\, Hauptpl. 16a\, Leoben\, Steiermark\, 8700\, Austria
CATEGORIES:Lauf
END:VEVENT
BEGIN:VEVENT
DTSTART;VALUE=DATE:20251130
DTEND;VALUE=DATE:20251201
DTSTAMP:20260419T163757
CREATED:20251105T075356Z
LAST-MODIFIED:20251211T072518Z
UID:276-1764460800-1764547199@spbt.at
SUMMARY:Lauf Kurvenwetzer Leoben
DESCRIPTION:
URL:https://spbt.at/termine/lauf-kurvenwetzer-leoben/
LOCATION:Kurvenwetzer Leoben\, Ferdinand-Hanusch-Straße 19\, Leoben\, Steiermark\, 8700\, Austria
CATEGORIES:Lauf
END:VEVENT
BEGIN:VEVENT
DTSTART;VALUE=DATE:20251129
DTEND;VALUE=DATE:20251130
DTSTAMP:20260419T163757
CREATED:20251105T074958Z
LAST-MODIFIED:20251211T072518Z
UID:272-1764374400-1764460799@spbt.at
SUMMARY:Lauf Seegraben
DESCRIPTION:
URL:https://spbt.at/termine/lauf-seegraben/
LOCATION:Seegraben\, Seegraben Siedlung\, Seegraben\, Stiermark\, 8700\, Austria
CATEGORIES:Lauf
END:VEVENT
BEGIN:VEVENT
DTSTART;VALUE=DATE:20251121
DTEND;VALUE=DATE:20251122
DTSTAMP:20260419T163757
CREATED:20251105T074708Z
LAST-MODIFIED:20251211T072518Z
UID:268-1763683200-1763769599@spbt.at
SUMMARY:Lauf Cafe Gitti St. Michael
DESCRIPTION:
URL:https://spbt.at/termine/lauf-cafe-gitti-st-michael/
LOCATION:Cafe Gitti\, Bundesstraße 50\, Stankt Michael in der Obersteiermark\, Steiermark\, 8770\, Austria
CATEGORIES:Lauf
END:VEVENT
BEGIN:VEVENT
DTSTART;VALUE=DATE:20251115
DTEND;VALUE=DATE:20251116
DTSTAMP:20260419T163757
CREATED:20251031T094506Z
LAST-MODIFIED:20251211T072518Z
UID:172-1763164800-1763251199@spbt.at
SUMMARY:Lauf St Peter Freienstein
DESCRIPTION:
URL:https://spbt.at/termine/lauf-fc-oberaich/
LOCATION:Freiensteiner Teifl\, Gemeindegasse 2\, Sankt Peter Freienstein\, Steiermark\, 8792\, Austria
CATEGORIES:Lauf
END:VEVENT
BEGIN:VEVENT
DTSTART;VALUE=DATE:20251114
DTEND;VALUE=DATE:20251115
DTSTAMP:20260419T163757
CREATED:20251105T080648Z
LAST-MODIFIED:20251211T072518Z
UID:288-1763078400-1763164799@spbt.at
SUMMARY:Lauf Oberaich
DESCRIPTION:
URL:https://spbt.at/termine/lauf-oberaich/
LOCATION:Lauf FC Oberaich\, Oberaichstraße 1\, Oberaich\, Steiermark\, 8600\, Austria
CATEGORIES:Lauf
END:VEVENT
BEGIN:VEVENT
DTSTART;VALUE=DATE:20251114
DTEND;VALUE=DATE:20251115
DTSTAMP:20260419T163757
CREATED:20251031T094129Z
LAST-MODIFIED:20251211T072518Z
UID:168-1763078400-1763164799@spbt.at
SUMMARY:Lauf FC Trofaiach
DESCRIPTION:
URL:https://spbt.at/termine/lauf-fc-trofaiach/
LOCATION:Lauf FC Trofaiach\, Rötzstraße 3\, Trofaiach\, Steiermark\, 8793\, Austria
CATEGORIES:Lauf
END:VEVENT
BEGIN:VEVENT
DTSTART;VALUE=DATE:20251108
DTEND;VALUE=DATE:20251109
DTSTAMP:20260419T163757
CREATED:20251031T093638Z
LAST-MODIFIED:20251211T072518Z
UID:162-1762560000-1762646399@spbt.at
SUMMARY:Lauf Fohnsdorf
DESCRIPTION:
URL:https://spbt.at/termine/lauf-fohnsdorf/
LOCATION:Lauf Fohnsdorf\, Fahrtechnikstraße 1\, Fohnsdorf\, Steiermark\, 8753\, Austria
CATEGORIES:Lauf
END:VEVENT
END:VCALENDAR